BEGIN:VCALENDAR
VERSION:2.0
PRODID:-//wp-events-plugin.com//7.2.3.1//EN
TZID:Pacific/Auckland
X-WR-TIMEZONE:Pacific/Auckland
BEGIN:VEVENT
UID:121@tennissouthcanterbury.co.nz
DTSTART;TZID=Pacific/Auckland:20260421T153000
DTEND;TZID=Pacific/Auckland:20260630T204500
DTSTAMP:20260406T232349Z
URL:https://tennissouthcanterbury.co.nz/events/squads-term-2-2026/
SUMMARY:Squads Term 2 - 2026
DESCRIPTION:1.5hrs of tennis with our coaches (45min Coaching &amp\; 45min 
 Matchplay).  Starting times will be confirmed soon.\n\nC Grade: usually f
 or players 11 year old and under and we are using green balls.\nB Grade: i
 s intermediate players that play with regular balls and have played for a 
 few years.\nA Grade: is usually rep level players that play with regular b
 alls and have played for a few years with good level of tennis and partici
 pated to some tournaments.
ATTACH;FMTTYPE=image/jpeg:https://tennissouthcanterbury.co.nz/wp-content/u
 ploads/2024/12/DSC_2072-scaled.jpg
CATEGORIES:Squad
LOCATION:Tennis South Canterbury\, 27 Benvenue Avenue\, Timaru\, Maori Hill
 \, 7910\, Canterbury\, New Zealand
X-APPLE-STRUCTURED-LOCATION;VALUE=URI;X-ADDRESS=27 Benvenue Avenue\, Timaru
 \, Maori Hill\, 7910\, Canterbury\, New Zealand;X-APPLE-RADIUS=100;X-TITLE
 =Tennis South Canterbury:geo:0,0
END:VEVENT
BEGIN:VEVENT
UID:122@tennissouthcanterbury.co.nz
DTSTART;TZID=Pacific/Auckland:20260421T154500
DTEND;TZID=Pacific/Auckland:20260630T164500
DTSTAMP:20260409T201053Z
URL:https://tennissouthcanterbury.co.nz/events/hotshots-term-1-2026-2/
SUMMARY:Hotshots Term 2 - 2026
DESCRIPTION:30min tennis lessons for beginners ages 4-12yrs
ATTACH;FMTTYPE=image/jpeg:https://tennissouthcanterbury.co.nz/wp-content/u
 ploads/2024/11/DSC_0944-scaled.jpg
CATEGORIES:Hot Shots
LOCATION:Tennis South Canterbury\, 27 Benvenue Avenue\, Timaru\, Maori Hill
 \, 7910\, Canterbury\, New Zealand
X-APPLE-STRUCTURED-LOCATION;VALUE=URI;X-ADDRESS=27 Benvenue Avenue\, Timaru
 \, Maori Hill\, 7910\, Canterbury\, New Zealand;X-APPLE-RADIUS=100;X-TITLE
 =Tennis South Canterbury:geo:0,0
END:VEVENT
BEGIN:VEVENT
UID:120@tennissouthcanterbury.co.nz
DTSTART;TZID=Pacific/Auckland:20260423T180000
DTEND;TZID=Pacific/Auckland:20260625T190000
DTSTAMP:20260409T200531Z
URL:https://tennissouthcanterbury.co.nz/events/xpress-adult-coaching-term-
 2-2/
SUMMARY:Xpress Adult Coaching - Term 2
DESCRIPTION:\n\n\nCourse length\n8 Lessons\nDate\n23/04/2026 - 25/06/2026\n
 Recurring on\nThursday\n\n\n\nEveryone welcome\, adults of any age and abi
 lities. Casual entries are available for only $25 each evening.
ATTACH;FMTTYPE=image/jpeg:https://tennissouthcanterbury.co.nz/wp-content/u
 ploads/2025/08/facebook-80.jpg
CATEGORIES:Xpress
LOCATION:Trust Aoraki Tennis centre\, 27 Benvenue Avenue\, Maori Hill\, Tim
 aru\, 7910\, Canterbury\, New Zealand
X-APPLE-STRUCTURED-LOCATION;VALUE=URI;X-ADDRESS=27 Benvenue Avenue\, Maori 
 Hill\, Timaru\, 7910\, Canterbury\, New Zealand;X-APPLE-RADIUS=100;X-TITLE
 =Trust Aoraki Tennis centre:geo:0,0
END:VEVENT
BEGIN:VTIMEZONE
TZID:Pacific/Auckland
X-LIC-LOCATION:Pacific/Auckland
BEGIN:STANDARD
DTSTART:20260405T020000
TZOFFSETFROM:+1300
TZOFFSETTO:+1200
TZNAME:NZST
END:STANDARD
END:VTIMEZONE
END:VCALENDAR